BEGIN:VCALENDAR
VERSION:2.0
PRODID:-//rfr/addtomycal//NONSGML v1.0//EN
BEGIN:VEVENT
UID:rouen.fr
DTSTAMP:20260421T044220Z
DTSTART:20240711T163000Z
DTEND:20240711T163000Z
SUMMARY:Terrasses du jeudi - Cie des Gros ours
DESCRIPTION:musique - Concert
 - enfant - Gratuit
 - Rens. : www.terrassesdujeudi.fr
 - 24e édition du festival organisé par Le Kalif
Conte musical jeune public "Le Sentier des papillons"

LOCATION:Place des Carmes
, Rouen
END:VEVENT
END:VCALENDAR
