BEGIN:VCALENDAR
VERSION:2.0
PRODID:-//rfr/addtomycal//NONSGML v1.0//EN
BEGIN:VEVENT
UID:rouen.fr
DTSTAMP:20260424T144835Z
DTSTART:20240712T113000Z
DTEND:20240712T153000Z
SUMMARY:Rouen-sur-mer
DESCRIPTION:fête populaire - Un été sur les Hauts
 - tout public - Gratuit
 - Prévoir les titres de transport
Sur inscription auprès du centre social
au 02 35 08 88 80
 - Départ 13 h 30 du centre social

LOCATION:Centre social Diana Armengol-Markarian
, Rouen
END:VEVENT
END:VCALENDAR
