BEGIN:VCALENDAR
VERSION:2.0
PRODID:-//rfr/addtomycal//NONSGML v1.0//EN
BEGIN:VEVENT
UID:rouen.fr
DTSTAMP:20260421T191004Z
DTSTART:20240718T170000Z
DTEND:20240718T180000Z
SUMMARY:Zumba 
DESCRIPTION:sport - Rouen sur mer
 - tout public - Gratuit
 - Rens. : https:
LOCATION:
END:VEVENT
END:VCALENDAR
