BEGIN:VCALENDAR
VERSION:2.0
PRODID:-//rfr/addtomycal//NONSGML v1.0//EN
BEGIN:VEVENT
UID:rouen.fr
DTSTAMP:20260422T100930Z
DTSTART:20240720T130000Z
DTEND:20240720T203000Z
SUMMARY:Les Samedis de Béthencourt - Les Plastiqueurs
DESCRIPTION:spectacle - Animation
 - tout public - Accès libre, dans la limite des places disponibles
 - Rens. : https:
LOCATION:
END:VEVENT
END:VCALENDAR
