BEGIN:VCALENDAR
VERSION:2.0
PRODID:-//rfr/addtomycal//NONSGML v1.0//EN
BEGIN:VEVENT
UID:rouen.fr
DTSTAMP:20260420T074103Z
DTSTART:20240721T123000Z
DTEND:20240721T163000Z
SUMMARY:Le citron un zeste Cool 
DESCRIPTION:atelier - Rouen sur mer
 - tout public - Gratuit
 - Sur inscription à l’accueil
Rens : https:
LOCATION:
END:VEVENT
END:VCALENDAR
