BEGIN:VCALENDAR
VERSION:2.0
PRODID:-//rfr/addtomycal//NONSGML v1.0//EN
BEGIN:VEVENT
UID:rouen.fr
DTSTAMP:20260421T110824Z
DTSTART:20240721T130000Z
DTEND:20240721T130000Z
SUMMARY:Concert d'été - Les Vibrants défricheurs + Antoine Berland Ouate Watt
DESCRIPTION:musique - Concert
 - tout public - Gratuit
 - Rens. : https:
LOCATION:
END:VEVENT
END:VCALENDAR
