BEGIN:VCALENDAR
VERSION:2.0
PRODID:-//rfr/addtomycal//NONSGML v1.0//EN
BEGIN:VEVENT
UID:rouen.fr
DTSTAMP:20260420T082554Z
DTSTART:20240723T080000Z
DTEND:20240723T080000Z
SUMMARY:Fléchettes
DESCRIPTION:sport - Sport
 - senior - Sur inscription au 02 32 08 60 80
 -  - Durée : 1h
Rdv 10 minutes avant, avec une petite bouteille d'eau

LOCATION:Gymnase Nelson-Mandela, 7 rue des Murs Saint Yon
, Rouen
END:VEVENT
END:VCALENDAR
