BEGIN:VCALENDAR
VERSION:2.0
PRODID:-//rfr/addtomycal//NONSGML v1.0//EN
BEGIN:VEVENT
UID:rouen.fr
DTSTAMP:20260420T054221Z
DTSTART:20240730T123000Z
DTEND:20240730T163000Z
SUMMARY:Aux sources de l’Olympisme 
DESCRIPTION:atelier - Rouen Sur Mer
 - tout public - Gratuit
 - Par Citémômes, Tipi Ateliers.
A partir de 4 ans.
 - A la découverte des origines des Jeux Olympiques dans la Grèce antique…

LOCATION:Rive gauche entre les ponts Jeanne-d'Arc et Guillaume le Conquérant
, Rouen
END:VEVENT
END:VCALENDAR
