BEGIN:VCALENDAR
VERSION:2.0
PRODID:-//rfr/addtomycal//NONSGML v1.0//EN
BEGIN:VEVENT
UID:rouen.fr
DTSTAMP:20260419T224912Z
DTSTART:20240807T140000Z
DTEND:20240807T140000Z
SUMMARY:Le jardin aux mille couleurs 
DESCRIPTION:atelier - Un été au jardin
 - tout public - Gratuit
 - Durée : 45 min à 1h
Atelier parents
LOCATION:enfants
à partir de 3 ans
par l’association Lis-moi les mots
 - Observe les couleurs du jardin,
de ses plantes et de ses habitants.
Puis, amuse-toi en créant ton propre
jardin !

END:VEVENT
END:VCALENDAR
