BEGIN:VCALENDAR
VERSION:2.0
PRODID:-//rfr/addtomycal//NONSGML v1.0//EN
BEGIN:VEVENT
UID:rouen.fr
DTSTAMP:20260421T175139Z
DTSTART:20240828T133000Z
DTEND:20240828T153000Z
SUMMARY:Atelier cuisine parents-enfants : les fruits
DESCRIPTION:atelier - Un été sur les Hauts
 - tout public - Gratuit
 - Gratuit sur inscription
auprès du centre social
au 02 35 08 88 80
 - Sous toutes ses formes (smoothies,
brochettes de fruits, verrines…).
Lecture de contes et histoires autour
du fruit animées par la Bibliothèque
du Châtelet.

LOCATION:Centre social Diana Armengol-Markarian
, Rouen
END:VEVENT
END:VCALENDAR
