BEGIN:VCALENDAR
VERSION:2.0
PRODID:-//rfr/addtomycal//NONSGML v1.0//EN
BEGIN:VEVENT
UID:rouen.fr
DTSTAMP:20260420T115643Z
DTSTART:20240831T090000Z
DTEND:20240831T130000Z
SUMMARY:Vibrations - Le tout petit festival
DESCRIPTION:musique - Festival
 - tout public - Gratuit
 - Rens. : www.festivalvibrations.jimdo.com et sur https:
LOCATION:
END:VEVENT
END:VCALENDAR
