BEGIN:VCALENDAR
VERSION:2.0
PRODID:-//rfr/addtomycal//NONSGML v1.0//EN
BEGIN:VEVENT
UID:rouen.fr
DTSTAMP:20260423T141703Z
DTSTART:20240911T080000Z
DTEND:20240911T080000Z
SUMMARY:Journées d'expertises avec Me Delphine Fremaux-Lejeune
DESCRIPTION:rencontre - Rencontre
 - tout public - Accès libre
 - Rens. : www.armitiere.com
 - Prise de rendez-vous obligatoire via le site internet de la librairie

LOCATION:Librairie L'Armitière, 66 rue Jeanne d'Arc, Rouen
END:VEVENT
END:VCALENDAR
