BEGIN:VCALENDAR
VERSION:2.0
PRODID:-//rfr/addtomycal//NONSGML v1.0//EN
BEGIN:VEVENT
UID:rouen.fr
DTSTAMP:20260423T015611Z
DTSTART:20240912T120000Z
DTEND:20240912T120000Z
SUMMARY:Seniors connectés - Comment retrouver ses fichiers, les renommer et les classer dans l'ordinateur ?
DESCRIPTION:atelier - Numérique
 - senior - Gratuit, sur inscription
 - Rens. et inscriptions : par téléphone au 07 44 71 10 24
 - Durée : 2h
Apporter son matériel

LOCATION:MJC Rive gauche, place de Hanovre
, Rouen
END:VEVENT
END:VCALENDAR
