BEGIN:VCALENDAR
VERSION:2.0
PRODID:-//rfr/addtomycal//NONSGML v1.0//EN
BEGIN:VEVENT
UID:rouen.fr
DTSTAMP:20260420T022442Z
DTSTART:20240914T160000Z
DTEND:20240914T160000Z
SUMMARY:FC Rouen - Valenciennes FC
DESCRIPTION:sport - Football
 - tout public - De 12 € à 22 €
 - Rens. : www.fcrouen.fr
 - À l'occasion de la 5e journée de National

LOCATION:Stade Robert Diochon
, Petit-Quevilly
END:VEVENT
END:VCALENDAR
