BEGIN:VCALENDAR
VERSION:2.0
PRODID:-//rfr/addtomycal//NONSGML v1.0//EN
BEGIN:VEVENT
UID:rouen.fr
DTSTAMP:20260420T172431Z
DTSTART:20240920T163000Z
DTEND:20240920T183000Z
SUMMARY:Pique-nique animé & histoire du belvédère de la Côte Sainte-Catherine
DESCRIPTION:visite - Journées du patrimoine
 - tout public - Gratuit
 - Rens. : https:
LOCATION:
END:VEVENT
END:VCALENDAR
