BEGIN:VCALENDAR
VERSION:2.0
PRODID:-//rfr/addtomycal//NONSGML v1.0//EN
BEGIN:VEVENT
UID:rouen.fr
DTSTAMP:20260420T153920Z
DTSTART:20240920T173000Z
DTEND:20240920T193000Z
SUMMARY:Dessin en salle
DESCRIPTION:atelier - Journées du patrimoine
 - tout public - Gratuit
 - Rens. : https:
LOCATION:
END:VEVENT
END:VCALENDAR
