BEGIN:VCALENDAR
VERSION:2.0
PRODID:-//rfr/addtomycal//NONSGML v1.0//EN
BEGIN:VEVENT
UID:rouen.fr
DTSTAMP:20260421T154800Z
DTSTART:20240921T070000Z
DTEND:20240921T100000Z
SUMMARY:Visite - Laboratoire de recherche, Université de Rouen-Martainville
DESCRIPTION:visite - Journées du patrimoine
 - tout public - Gratuit, sur réservation
 - Réserv. : www.univ-rouen.fr
Rens. : https:
LOCATION:
END:VEVENT
END:VCALENDAR
