BEGIN:VCALENDAR
VERSION:2.0
PRODID:-//rfr/addtomycal//NONSGML v1.0//EN
BEGIN:VEVENT
UID:rouen.fr
DTSTAMP:20260422T233957Z
DTSTART:20240921T110000Z
DTEND:20240921T110000Z
SUMMARY:Visite commentée - Whistler, l'effet papillon
DESCRIPTION:visite - Journées du patrimoine
 - tout public - 7 €
 - Rens. : https:
LOCATION:
END:VEVENT
END:VCALENDAR
