BEGIN:VCALENDAR
VERSION:2.0
PRODID:-//rfr/addtomycal//NONSGML v1.0//EN
BEGIN:VEVENT
UID:rouen.fr
DTSTAMP:20260421T035836Z
DTSTART:20240921T120000Z
DTEND:20240921T120000Z
SUMMARY:Visite théâtralisée - Historial Jeanne-d'Arc
DESCRIPTION:visite - Journées du patrimoine
 - tout public - Gratuit, sur réservation
 - Réserv. sur www.historial-jeannedarc.fr
Rens. : https:
LOCATION:
END:VEVENT
END:VCALENDAR
