BEGIN:VCALENDAR
VERSION:2.0
PRODID:-//rfr/addtomycal//NONSGML v1.0//EN
BEGIN:VEVENT
UID:rouen.fr
DTSTAMP:20260420T194650Z
DTSTART:20240922T080000Z
DTEND:20240922T163000Z
SUMMARY:Visite libre - Historial Jeanne-d'Arc
DESCRIPTION:visite - Journées du patrimoine
 - tout public - Gratuit
 - Rens. sur www.historial-jeannedarc.fr
Rens. : https:
LOCATION:
END:VEVENT
END:VCALENDAR
