BEGIN:VCALENDAR
VERSION:2.0
PRODID:-//rfr/addtomycal//NONSGML v1.0//EN
BEGIN:VEVENT
UID:rouen.fr
DTSTAMP:20260420T072627Z
DTSTART:20241003T220000Z
DTEND:20241013T220000Z
SUMMARY:Fête de la science - L'Atrium en fête !
DESCRIPTION:visite - Fête de la science
 - tout public - Accès libre
 - Rens. : https:
LOCATION:
END:VEVENT
END:VCALENDAR
