BEGIN:VCALENDAR
VERSION:2.0
PRODID:-//rfr/addtomycal//NONSGML v1.0//EN
BEGIN:VEVENT
UID:rouen.fr
DTSTAMP:20260419T152448Z
DTSTART:20241004T180000Z
DTEND:20241004T180000Z
SUMMARY:Lettres sans abri
DESCRIPTION:spectacle - Spectacle
 - tout public - Libre participation
 - Rens. : www.compagniedunjour.com
 - Par la Cie D'un jour
À l'occasion des 40 ans (et au bénéfice) de l'association SHMA

LOCATION:Église Saint-Vivien, place Saint-Vivien
, Rouen
END:VEVENT
END:VCALENDAR
