BEGIN:VCALENDAR
VERSION:2.0
PRODID:-//rfr/addtomycal//NONSGML v1.0//EN
BEGIN:VEVENT
UID:rouen.fr
DTSTAMP:20260420T122009Z
DTSTART:20241005T070000Z
DTEND:20241005T160000Z
SUMMARY:Foire aux livres
DESCRIPTION:salon - Foire-à-tout
 - tout public - Accès libre
 -  - Organisée par Amnesty international
25000 livres
LOCATION:CD
END:VEVENT
END:VCALENDAR
