BEGIN:VCALENDAR
VERSION:2.0
PRODID:-//rfr/addtomycal//NONSGML v1.0//EN
BEGIN:VEVENT
UID:rouen.fr
DTSTAMP:20260420T225601Z
DTSTART:20241005T080000Z
DTEND:20241005T140000Z
SUMMARY:Village des sports adaptés
DESCRIPTION:sport - Sport adapté
 - tout public - Gratuit
 - Rens. : www.semaines-sante-mentale.fr
 - À l'occasion des Semaines d'information sur la santé mentale

LOCATION:Parc naturel urbain du Champ des Bruyères, Rouen
END:VEVENT
END:VCALENDAR
