BEGIN:VCALENDAR
VERSION:2.0
PRODID:-//rfr/addtomycal//NONSGML v1.0//EN
BEGIN:VEVENT
UID:rouen.fr
DTSTAMP:20260421T110453Z
DTSTART:20241010T073000Z
DTEND:20241010T100000Z
SUMMARY:Atelier - Création d'argile
DESCRIPTION:atelier - Atelier
 - senior - Sur inscription
 - Inscriptions au 06 65 94 86 40
 - Par l'association Nous Tous

LOCATION:MJC Rive gauche, place de Hanovre
, Rouen
END:VEVENT
END:VCALENDAR
