BEGIN:VCALENDAR
VERSION:2.0
PRODID:-//rfr/addtomycal//NONSGML v1.0//EN
BEGIN:VEVENT
UID:rouen.fr
DTSTAMP:20260420T132934Z
DTSTART:20241011T120000Z
DTEND:20241011T120000Z
SUMMARY:Seniors connectés - Comment gérer et retrouver ses dossiers, ses fichiers, photos, documents, téléchargements dans son smartphone ou sa tablette ?
DESCRIPTION:atelier - Numérique
 - senior - Gratuit, sur inscription
 - Rens. et inscriptions par téléphone au 07 44 71 10 24
 - Durée : 2h
Apporter son matériel

LOCATION:Maison des aînés, 24 rue des Arsins
, Rouen
END:VEVENT
END:VCALENDAR
