BEGIN:VCALENDAR
VERSION:2.0
PRODID:-//rfr/addtomycal//NONSGML v1.0//EN
BEGIN:VEVENT
UID:rouen.fr
DTSTAMP:20260419T185718Z
DTSTART:20241012T070000Z
DTEND:20241012T103000Z
SUMMARY:Job-dating - Métiers de l'eau et de l'assainissement
DESCRIPTION:salon - Forum emploi
 - tout public - Entrée libre
 - Rens. : www.metropole-rouen-normandie.fr
 - 
LOCATION:Le 108, avenue François Mitterrand, Rouen
END:VEVENT
END:VCALENDAR
