BEGIN:VCALENDAR
VERSION:2.0
PRODID:-//rfr/addtomycal//NONSGML v1.0//EN
BEGIN:VEVENT
UID:rouen.fr
DTSTAMP:20260423T060847Z
DTSTART:20241012T150000Z
DTEND:20241012T150000Z
SUMMARY:Peut-on compter sur les chiffres ?
DESCRIPTION:conférence - Conférence
 - tout public - Gratuit
 - Rens. : https:
LOCATION:
END:VEVENT
END:VCALENDAR
