BEGIN:VCALENDAR
VERSION:2.0
PRODID:-//rfr/addtomycal//NONSGML v1.0//EN
BEGIN:VEVENT
UID:rouen.fr
DTSTAMP:20260424T122240Z
DTSTART:20241019T160000Z
DTEND:20241019T160000Z
SUMMARY:L'Orgue-automne - Axel Lebas
DESCRIPTION:musique - Concert
 - tout public - Libre participation
 - Rens. : www.concerts-saint-eloi-rouen.org
 - Proposé par les Amis de l'orgue Saint-Éloi
10e édition du festival "L'Orgue-automne"
Thème : Nourritures terrestres et spirituelles
Durée : 45 minutes
Prog. : Rameau, Bach, Alain, Messiaen

LOCATION:Temple Saint-Éloi, place Martin Luther King
, Rouen
END:VEVENT
END:VCALENDAR
