BEGIN:VCALENDAR
VERSION:2.0
PRODID:-//rfr/addtomycal//NONSGML v1.0//EN
BEGIN:VEVENT
UID:rouen.fr
DTSTAMP:20260420T074056Z
DTSTART:20241019T160000Z
DTEND:20241019T160000Z
SUMMARY:Tout va bien
DESCRIPTION:spectacle - Théâtre
 - tout public - 15 € (TR de 1 € à 10 €)
 - Rens. : par téléphone au 02 35 70 22 82, par mail à billetterie@cdn-normandierouen.fr et sur www.cdn-normandierouen.fr
 - Par le Groupe Chiendent
LOCATION:Nadège Cathelineau et Julien Frégé
Tout public à partir de 15 ans
Durée : 1h30
Rencontre avec l'équipe artistique à l'issue de la représentation du 17 octobre

END:VEVENT
END:VCALENDAR
