BEGIN:VCALENDAR
VERSION:2.0
PRODID:-//rfr/addtomycal//NONSGML v1.0//EN
BEGIN:VEVENT
UID:rouen.fr
DTSTAMP:20260422T211648Z
DTSTART:20241022T150000Z
DTEND:20241022T150000Z
SUMMARY:Cours de modelage
DESCRIPTION:atelier - Atelier
 - tout public - 35 €
 - Rens. et inscriptions : 02 76 78 18 83, par mail à contact@galeriedesartsdufeu.fr et sur https:
LOCATION:
END:VEVENT
END:VCALENDAR
