BEGIN:VCALENDAR
VERSION:2.0
PRODID:-//rfr/addtomycal//NONSGML v1.0//EN
BEGIN:VEVENT
UID:rouen.fr
DTSTAMP:20260421T210207Z
DTSTART:20241023T120000Z
DTEND:20241023T143000Z
SUMMARY:Jeux de société et fabrication de crêpes
DESCRIPTION:rencontre - Jeux
 - senior - Sur inscription au 02 32 08 60 80
 -  - 
LOCATION:Centre socioculturel Simone-Veil, 74 rue Jules Adeline
, Rouen
END:VEVENT
END:VCALENDAR
