BEGIN:VCALENDAR
VERSION:2.0
PRODID:-//rfr/addtomycal//NONSGML v1.0//EN
BEGIN:VEVENT
UID:rouen.fr
DTSTAMP:20260421T080647Z
DTSTART:20241023T120000Z
DTEND:20241023T143000Z
SUMMARY:Permanence du Clic dans votre quartier
DESCRIPTION:rencontre - Permanence
 - senior - Sans rendez-vous
 -  - 
LOCATION:France Services, Centre social Diana Armengol Markarian
, Rouen
END:VEVENT
END:VCALENDAR
