BEGIN:VCALENDAR
VERSION:2.0
PRODID:-//rfr/addtomycal//NONSGML v1.0//EN
BEGIN:VEVENT
UID:rouen.fr
DTSTAMP:20260425T144705Z
DTSTART:20241024T073000Z
DTEND:20241024T100000Z
SUMMARY:Concert de piano
DESCRIPTION:musique - Concert
 - senior - Sur inscription
 - Inscription auprès de l'association "Pour tous" au 06 65 94 86 40
 - 
LOCATION:Résidence La Calende, 105 avenue Jean Rondeaux
, Rouen
END:VEVENT
END:VCALENDAR
