BEGIN:VCALENDAR
VERSION:2.0
PRODID:-//rfr/addtomycal//NONSGML v1.0//EN
BEGIN:VEVENT
UID:rouen.fr
DTSTAMP:20260421T041359Z
DTSTART:20241024T080000Z
DTEND:20241024T080000Z
SUMMARY:La terre, notre maison
DESCRIPTION:rencontre - Heure du conte
 - tout public - Gratuit, sur inscription
 - Rens. : 02 76 08 80 88, par mail à bibliotheque@rouen.fr et sur https:
LOCATION:
END:VEVENT
END:VCALENDAR
