BEGIN:VCALENDAR
VERSION:2.0
PRODID:-//rfr/addtomycal//NONSGML v1.0//EN
BEGIN:VEVENT
UID:rouen.fr
DTSTAMP:20260420T073039Z
DTSTART:20241026T123000Z
DTEND:20241026T203000Z
SUMMARY:Dernière danse
DESCRIPTION:fête populaire - Événement
 - tout public - Gratuit
 - Rens. : www.aitresaintmaclou.fr
 - À l'occasion des Fêtes macabres
Prog. : atelier "Impression danse macabre" (en continu, de 14h30 à 19h) ; tout public à partir de 6 ans
Stand photo "Portrait macabre" (libre accès, de 14h30 à 19h)
Rencontre avec l'équipe du spectacle immersif "Entrez dans la danse" à 14h30, 15h45 et 17h (tout public, sur réservation)
Atelier "Création de marionnettes articulées" à 16h (enfants à partir de 6 ans, sur réservation)
Spectacle "Danse macabre burlesque" de 19h à 21h, par la Cie le Théâtre des ombres
Bal "macabre" électro de 21h à 22h30 (tout public, entrée libre)

LOCATION:Aître Saint-Maclou, 186 rue Martainville
, Rouen
END:VEVENT
END:VCALENDAR
