BEGIN:VCALENDAR
VERSION:2.0
PRODID:-//rfr/addtomycal//NONSGML v1.0//EN
BEGIN:VEVENT
UID:rouen.fr
DTSTAMP:20260421T042019Z
DTSTART:20241026T130000Z
DTEND:20241026T130000Z
SUMMARY:Rouen - Savigny
DESCRIPTION:sport - Baseball
 - tout public - Gratuit
 - Rens. : www.rouenbaseball76.fr
 - Finale du championnat de France

LOCATION:Stade Pierre-Rolland, Complexe sportif Saint-Exupéry, 24 boulevard Gambetta, Rouen
END:VEVENT
END:VCALENDAR
