BEGIN:VCALENDAR
VERSION:2.0
PRODID:-//rfr/addtomycal//NONSGML v1.0//EN
BEGIN:VEVENT
UID:rouen.fr
DTSTAMP:20260419T185623Z
DTSTART:20241107T080000Z
DTEND:20241107T110000Z
SUMMARY:Rencontre avec les Zigot'hauts
DESCRIPTION:rencontre - Rencontre
 - tout public - Accès libre
 -  - Rencontre et ateliers avec les Cies théâtrales des Zigo'hauts

LOCATION:Marché du Châtelet
, Rouen
END:VEVENT
END:VCALENDAR
