BEGIN:VCALENDAR
VERSION:2.0
PRODID:-//rfr/addtomycal//NONSGML v1.0//EN
BEGIN:VEVENT
UID:rouen.fr
DTSTAMP:20260419T133726Z
DTSTART:20241110T130000Z
DTEND:20241110T170000Z
SUMMARY:Atelier - Massage des pieds thaïlandais
DESCRIPTION:atelier - Atelier
 - tout public - 50 €
 - Rens. et inscriptions au 06 37 77 77 09
 - 
LOCATION:Le Safran collectif, 11 rue des Hallettes
, Rouen
END:VEVENT
END:VCALENDAR
