BEGIN:VCALENDAR
VERSION:2.0
PRODID:-//rfr/addtomycal//NONSGML v1.0//EN
BEGIN:VEVENT
UID:rouen.fr
DTSTAMP:20260425T170735Z
DTSTART:20241115T080000Z
DTEND:20241115T103000Z
SUMMARY:Un moment pour souffler
DESCRIPTION:rencontre - Parentalité
 - tout public - Accès libre
 - Rens. : 02 35 08 88 99
 - Proposé par Lydie Gaborit, comédienne
Rencontres entre parents en lien avec des thématiques liées à la parentalité
Les bébés et jeunes enfants sont accueillis en même temps

LOCATION:Centre André-Malraux, rue François Couperin
, Rouen
END:VEVENT
END:VCALENDAR
