BEGIN:VCALENDAR
VERSION:2.0
PRODID:-//rfr/addtomycal//NONSGML v1.0//EN
BEGIN:VEVENT
UID:rouen.fr
DTSTAMP:20260420T073731Z
DTSTART:20241121T130000Z
DTEND:20241121T160000Z
SUMMARY:Les traumatismes de l'inceste, de la déshumanisation au silence
DESCRIPTION:conférence - Conférence
 - tout public - Gratuit, sur inscription
 - Inscriptions sur https:
LOCATION:
END:VEVENT
END:VCALENDAR
