BEGIN:VCALENDAR
VERSION:2.0
PRODID:-//rfr/addtomycal//NONSGML v1.0//EN
BEGIN:VEVENT
UID:rouen.fr
DTSTAMP:20260423T221047Z
DTSTART:20241123T140000Z
DTEND:20241123T200000Z
SUMMARY:La nuit de l'orientation
DESCRIPTION:rencontre - Emploi
 - tout public - Entrée libre
 - Rens. : https:
LOCATION:
END:VEVENT
END:VCALENDAR
