BEGIN:VCALENDAR
VERSION:2.0
PRODID:-//rfr/addtomycal//NONSGML v1.0//EN
BEGIN:VEVENT
UID:rouen.fr
DTSTAMP:20260419T130939Z
DTSTART:20241124T140000Z
DTEND:20241124T140000Z
SUMMARY:Imagine Si + Hommage à Valéry Arzoumanov
DESCRIPTION:musique - Concert
 - tout public - 15 € (TR 10 €)
 - Réserv. au 06 63 62 28 24
Rens. : https:
LOCATION:
END:VEVENT
END:VCALENDAR
