BEGIN:VCALENDAR
VERSION:2.0
PRODID:-//rfr/addtomycal//NONSGML v1.0//EN
BEGIN:VEVENT
UID:rouen.fr
DTSTAMP:20260420T205906Z
DTSTART:20241127T123000Z
DTEND:20241127T160000Z
SUMMARY:Village - Terre de Jeux
DESCRIPTION:sport - Sport
 - tout public - Accès libre
 -  - 
LOCATION:Place des Emmurées
, Rouen
END:VEVENT
END:VCALENDAR
