BEGIN:VCALENDAR
VERSION:2.0
PRODID:-//rfr/addtomycal//NONSGML v1.0//EN
BEGIN:VEVENT
UID:rouen.fr
DTSTAMP:20260420T080741Z
DTSTART:20241204T130000Z
DTEND:20241204T150000Z
SUMMARY:Grande vente du Secours populaire
DESCRIPTION:salon - Foire-à-tout
 - tout public - Accès libre
 - Rens. : 02 35 08 88 99
 - 
LOCATION:Centre André-Malraux, rue François Couperin
, Rouen
END:VEVENT
END:VCALENDAR
