BEGIN:VCALENDAR
VERSION:2.0
PRODID:-//rfr/addtomycal//NONSGML v1.0//EN
BEGIN:VEVENT
UID:rouen.fr
DTSTAMP:20260423T022432Z
DTSTART:20241208T143000Z
DTEND:20241208T173000Z
SUMMARY:Atelier - Cartes de Noël
DESCRIPTION:atelier - Rouen givrée
 - enfant - Gratuit, dans la limite des places disponibles
 - Rens. : https:
LOCATION:
END:VEVENT
END:VCALENDAR
