BEGIN:VCALENDAR
VERSION:2.0
PRODID:-//rfr/addtomycal//NONSGML v1.0//EN
BEGIN:VEVENT
UID:rouen.fr
DTSTAMP:20260420T004533Z
DTSTART:20241213T100000Z
DTEND:20241213T170000Z
SUMMARY:Jazz Normandie Day - speed meeting + échanges
DESCRIPTION:musique - Rencontre
 - tout public - Gratuit
 - Rens. : www.focus-jazz.com
 - 
LOCATION:Halle aux toiles, place de la Basse Vieille Tour
, Rouen
END:VEVENT
END:VCALENDAR
