BEGIN:VCALENDAR
VERSION:2.0
PRODID:-//rfr/addtomycal//NONSGML v1.0//EN
BEGIN:VEVENT
UID:rouen.fr
DTSTAMP:20260422T202956Z
DTSTART:20241215T160000Z
DTEND:20241215T160000Z
SUMMARY:Thierry Garcia - Insolent !
DESCRIPTION:spectacle - Humour
 - tout public - 20 € (TR 16 €)
 - Rens. : https:
LOCATION:
END:VEVENT
END:VCALENDAR
