BEGIN:VCALENDAR
VERSION:2.0
PRODID:-//rfr/addtomycal//NONSGML v1.0//EN
BEGIN:VEVENT
UID:rouen.fr
DTSTAMP:20260419T151455Z
DTSTART:20241217T230000Z
DTEND:20241222T230000Z
SUMMARY:Fêtez Noël au 105
DESCRIPTION:fête populaire - Marché et animations
 - tout public - Accès libre
 -  - Prog. : marché de Noël chaque jour de 11h à 18h
Journée des enfants le 18 décembre (maquillage, parades de mascottes et venue du Père Noël)
Afterworks de Noël jeudi et vendredi, de 18h à 20h
Soirée blind test le 19 décembre à 18h30 (thèmes : Noël et Disney)
Scène ouverte le 20 décembre à 18h30
Cirque Viking le 21 décembre à 18h30
Concerts gospel le 22 décembre (à 11h30, 13h30 et 15h30)
Concert baryton le 23 décembre à 18h
Émission radio live le 21 décembre à 15h

LOCATION:Le 105, quai Jean de Béthencourt
, Rouen
END:VEVENT
END:VCALENDAR
