BEGIN:VCALENDAR
VERSION:2.0
PRODID:-//rfr/addtomycal//NONSGML v1.0//EN
BEGIN:VEVENT
UID:rouen.fr
DTSTAMP:20260420T210938Z
DTSTART:20241226T083000Z
DTEND:20241226T113000Z
SUMMARY:Atelier - La fabrique à instruments
DESCRIPTION:atelier - Rouen givrée
 - enfant - Gratuit, dans la limite des places disponibles
 - Rens. : https:
LOCATION:
END:VEVENT
END:VCALENDAR
